BEGIN:VCALENDAR
VERSION:2.0
PRODID:-//Scottish Thistles Masters Hockey Club - ECPv6.15.20//NONSGML v1.0//EN
CALSCALE:GREGORIAN
METHOD:PUBLISH
X-ORIGINAL-URL:https://scottishthistleshockey.org
X-WR-CALDESC:Events for Scottish Thistles Masters Hockey Club
REFRESH-INTERVAL;VALUE=DURATION:PT1H
X-Robots-Tag:noindex
X-PUBLISHED-TTL:PT1H
BEGIN:VTIMEZONE
TZID:Europe/London
BEGIN:DAYLIGHT
TZOFFSETFROM:+0000
TZOFFSETTO:+0100
TZNAME:BST
DTSTART:20230326T010000
END:DAYLIGHT
BEGIN:STANDARD
TZOFFSETFROM:+0100
TZOFFSETTO:+0000
TZNAME:GMT
DTSTART:20231029T010000
END:STANDARD
BEGIN:DAYLIGHT
TZOFFSETFROM:+0000
TZOFFSETTO:+0100
TZNAME:BST
DTSTART:20240331T010000
END:DAYLIGHT
BEGIN:STANDARD
TZOFFSETFROM:+0100
TZOFFSETTO:+0000
TZNAME:GMT
DTSTART:20241027T010000
END:STANDARD
BEGIN:DAYLIGHT
TZOFFSETFROM:+0000
TZOFFSETTO:+0100
TZNAME:BST
DTSTART:20250330T010000
END:DAYLIGHT
BEGIN:STANDARD
TZOFFSETFROM:+0100
TZOFFSETTO:+0000
TZNAME:GMT
DTSTART:20251026T010000
END:STANDARD
END:VTIMEZONE
BEGIN:VEVENT
DTSTART;TZID=Europe/London:20240719T100000
DTEND;TZID=Europe/London:20240721T160000
DTSTAMP:20260424T185305
CREATED:20231002T132849Z
LAST-MODIFIED:20240511T171608Z
UID:2180-1721383200-1721577600@scottishthistleshockey.org
SUMMARY:Duisburg Germany fallen through
DESCRIPTION:Duisburg 2024 for us has fallen through.  They had limited spaces and because we were needing to send a mixed age team and this required dispensation (it is a WMH sanctioned event) we were put on standby if space allowed however the organisers have filled the slots available.  They are happy for us to apply in 2025 by which time we should hope to be able to send two teams. \n  \nLocation:  Club Raffelberg\, Duisburg\, Germany.  25 minutes from Dusseldorf airport. \nDate: Friday 19th – Sunday 21st July.  Probably 10am Friday to 4pm Sunday \nThistles Teams:  M70\, M65 or mixed age M65 and under.
URL:https://scottishthistleshockey.org/event/four-nation-invite-duisburg-germany/
END:VEVENT
END:VCALENDAR