BEGIN:VCALENDAR
VERSION:2.0
PRODID:-//Scottish Thistles Masters Hockey Club - ECPv6.15.20//NONSGML v1.0//EN
CALSCALE:GREGORIAN
METHOD:PUBLISH
X-WR-CALNAME:Scottish Thistles Masters Hockey Club
X-ORIGINAL-URL:https://scottishthistleshockey.org
X-WR-CALDESC:Events for Scottish Thistles Masters Hockey Club
REFRESH-INTERVAL;VALUE=DURATION:PT1H
X-Robots-Tag:noindex
X-PUBLISHED-TTL:PT1H
BEGIN:VTIMEZONE
TZID:Europe/London
BEGIN:DAYLIGHT
TZOFFSETFROM:+0000
TZOFFSETTO:+0100
TZNAME:BST
DTSTART:20240331T010000
END:DAYLIGHT
BEGIN:STANDARD
TZOFFSETFROM:+0100
TZOFFSETTO:+0000
TZNAME:GMT
DTSTART:20241027T010000
END:STANDARD
BEGIN:DAYLIGHT
TZOFFSETFROM:+0000
TZOFFSETTO:+0100
TZNAME:BST
DTSTART:20250330T010000
END:DAYLIGHT
BEGIN:STANDARD
TZOFFSETFROM:+0100
TZOFFSETTO:+0000
TZNAME:GMT
DTSTART:20251026T010000
END:STANDARD
BEGIN:DAYLIGHT
TZOFFSETFROM:+0000
TZOFFSETTO:+0100
TZNAME:BST
DTSTART:20260329T010000
END:DAYLIGHT
BEGIN:STANDARD
TZOFFSETFROM:+0100
TZOFFSETTO:+0000
TZNAME:GMT
DTSTART:20261025T010000
END:STANDARD
END:VTIMEZONE
BEGIN:VEVENT
DTSTART;TZID=Europe/London:20250629T090000
DTEND;TZID=Europe/London:20250706T160000
DTSTAMP:20260422T124607
CREATED:20231002T125132Z
LAST-MODIFIED:20250518T145433Z
UID:2177-1751187600-1751817600@scottishthistleshockey.org
SUMMARY:IGMHF WGMA Cup - Nottingham - June
DESCRIPTION:18th May.  Both squads 60s and 70s are full and players informed.  If you have any interest please email sixtiesplus to see if space is available. \n27th March:  With Celtic Cup unexpectedly overlapping the dates the numbers remaining who are not is not involved in National meant we had to take difficult decisions.  To ensure the maximum number of Thistles get to play we have pulled the o65s and topped up the o60s with the younger and the o70s with the 68yr olds plus.  Sadly a very few have missed out.  The poll is now closed but if you are an o60s player or o70s player (68 plus) you are invited to email sixtiesplus to see if space is available. \n4th Feb note:  Preliminary invites are due to go out shortly so please apply now to add your name. \n——————– \n“WGMA are inviting all Spirit of Masters teams around the world to a festival tournament which will be hosted by LX England in Nottingham from 29th June-6th July 2025. This will be much in the style of the tournaments held in The Hague 2024 and Barcelona 2022.” \nPlan to arrive on Saturday 28th for an afternoon practice session. \nMatches start Sunday 29th June from 9am. \nMatches finish Sunday 6th July late afternoon. \nLocation: Nottingham University\, Nottingham \nThistles Teams:  Ladies team and M60 M65 M70 plus potential of an M75.  Note M60 allowed to feature some underage within limits. \nThis is a selected event and Thistles will send the best squads we can. \n 
URL:https://scottishthistleshockey.org/event/igmhf-wgma-cup/
LOCATION:Nottingham Hockey Centre\, University Blvd\, Nottingham\, NG7 2PS\, United Kingdom
END:VEVENT
END:VCALENDAR